BEGIN:VCALENDAR
VERSION:2.0
CALSCALE:GREGORIAN
PRODID:adamgibbons/ics
METHOD:PUBLISH
X-PUBLISHED-TTL:PT1H
BEGIN:VEVENT
UID:EPsxePKYICCOT3Yoqq0YI
SUMMARY:Contact Sophie Brett
DTSTAMP:20260421T082431Z
DTSTART:20260422T120000Z
DESCRIPTION:Policy Manager at Prosper\nTelephone: 07917190935
X-MICROSOFT-CDO-BUSYSTATUS:BUSY
ATTENDEE;CN="Sophie Brett":mailto:sophie.brett@prosper.scot
DURATION:PT15M
END:VEVENT
END:VCALENDAR
